BEGIN:VCALENDAR
VERSION:2.0
PRODID:-//PVNCOECTA.CA - ECPv6.15.20//NONSGML v1.0//EN
CALSCALE:GREGORIAN
METHOD:PUBLISH
X-WR-CALNAME:PVNCOECTA.CA
X-ORIGINAL-URL:https://www.pvncoecta.ca
X-WR-CALDESC:Events for PVNCOECTA.CA
REFRESH-INTERVAL;VALUE=DURATION:PT1H
X-Robots-Tag:noindex
X-PUBLISHED-TTL:PT1H
BEGIN:VTIMEZONE
TZID:America/Toronto
BEGIN:DAYLIGHT
TZOFFSETFROM:-0500
TZOFFSETTO:-0400
TZNAME:EDT
DTSTART:20220313T070000
END:DAYLIGHT
BEGIN:STANDARD
TZOFFSETFROM:-0400
TZOFFSETTO:-0500
TZNAME:EST
DTSTART:20221106T060000
END:STANDARD
BEGIN:DAYLIGHT
TZOFFSETFROM:-0500
TZOFFSETTO:-0400
TZNAME:EDT
DTSTART:20230312T070000
END:DAYLIGHT
BEGIN:STANDARD
TZOFFSETFROM:-0400
TZOFFSETTO:-0500
TZNAME:EST
DTSTART:20231105T060000
END:STANDARD
BEGIN:DAYLIGHT
TZOFFSETFROM:-0500
TZOFFSETTO:-0400
TZNAME:EDT
DTSTART:20240310T070000
END:DAYLIGHT
BEGIN:STANDARD
TZOFFSETFROM:-0400
TZOFFSETTO:-0500
TZNAME:EST
DTSTART:20241103T060000
END:STANDARD
BEGIN:DAYLIGHT
TZOFFSETFROM:-0500
TZOFFSETTO:-0400
TZNAME:EDT
DTSTART:20250309T070000
END:DAYLIGHT
BEGIN:STANDARD
TZOFFSETFROM:-0400
TZOFFSETTO:-0500
TZNAME:EST
DTSTART:20251102T060000
END:STANDARD
BEGIN:DAYLIGHT
TZOFFSETFROM:-0500
TZOFFSETTO:-0400
TZNAME:EDT
DTSTART:20260308T070000
END:DAYLIGHT
BEGIN:STANDARD
TZOFFSETFROM:-0400
TZOFFSETTO:-0500
TZNAME:EST
DTSTART:20261101T060000
END:STANDARD
BEGIN:DAYLIGHT
TZOFFSETFROM:-0500
TZOFFSETTO:-0400
TZNAME:EDT
DTSTART:20270314T070000
END:DAYLIGHT
BEGIN:STANDARD
TZOFFSETFROM:-0400
TZOFFSETTO:-0500
TZNAME:EST
DTSTART:20271107T060000
END:STANDARD
END:VTIMEZONE
BEGIN:VEVENT
DTSTART;TZID=America/Toronto:20260520T163000
DTEND;TZID=America/Toronto:20260520T183000
DTSTAMP:20260422T181235
CREATED:20250917T142049Z
LAST-MODIFIED:20250917T142049Z
UID:2521-1779294600-1779301800@www.pvncoecta.ca
SUMMARY:Executive Meeting
DESCRIPTION:
URL:https://www.pvncoecta.ca/event/executive-meeting-59/
LOCATION:Unit Office\, 2078 Davis Rd.\, Cavan\, Ontario\, K9J 0G5\, Canada
END:VEVENT
BEGIN:VEVENT
DTSTART;TZID=America/Toronto:20260415T163000
DTEND;TZID=America/Toronto:20260415T183000
DTSTAMP:20260422T181235
CREATED:20250917T142002Z
LAST-MODIFIED:20250917T142002Z
UID:2519-1776270600-1776277800@www.pvncoecta.ca
SUMMARY:Executive Meeting
DESCRIPTION:
URL:https://www.pvncoecta.ca/event/executive-meeting-58/
LOCATION:Unit Office\, 2078 Davis Rd.\, Cavan\, Ontario\, K9J 0G5\, Canada
END:VEVENT
BEGIN:VEVENT
DTSTART;TZID=America/Toronto:20260325T163000
DTEND;TZID=America/Toronto:20260325T183000
DTSTAMP:20260422T181235
CREATED:20250917T141830Z
LAST-MODIFIED:20250917T141830Z
UID:2515-1774456200-1774463400@www.pvncoecta.ca
SUMMARY:Executive Meeting
DESCRIPTION:
URL:https://www.pvncoecta.ca/event/executive-meeting-57/
LOCATION:Unit Office\, 2078 Davis Rd.\, Cavan\, Ontario\, K9J 0G5\, Canada
END:VEVENT
BEGIN:VEVENT
DTSTART;TZID=America/Toronto:20260304T163000
DTEND;TZID=America/Toronto:20260304T183000
DTSTAMP:20260422T181235
CREATED:20250917T141914Z
LAST-MODIFIED:20250917T141914Z
UID:2517-1772641800-1772649000@www.pvncoecta.ca
SUMMARY:Pre-AGM Delegate Meeting
DESCRIPTION:
URL:https://www.pvncoecta.ca/event/pre-agm-delegate-meeting/
LOCATION:Unit Office\, 2078 Davis Rd.\, Cavan\, Ontario\, K9J 0G5\, Canada
END:VEVENT
BEGIN:VEVENT
DTSTART;TZID=America/Toronto:20260218T163000
DTEND;TZID=America/Toronto:20260218T183000
DTSTAMP:20260422T181235
CREATED:20250917T141747Z
LAST-MODIFIED:20250917T141747Z
UID:2513-1771432200-1771439400@www.pvncoecta.ca
SUMMARY:Executive Meeting
DESCRIPTION:
URL:https://www.pvncoecta.ca/event/executive-meeting-56/
LOCATION:Unit Office\, 2078 Davis Rd.\, Cavan\, Ontario\, K9J 0G5\, Canada
END:VEVENT
BEGIN:VEVENT
DTSTART;TZID=America/Toronto:20260121T163000
DTEND;TZID=America/Toronto:20260121T183000
DTSTAMP:20260422T181235
CREATED:20250917T141705Z
LAST-MODIFIED:20250917T141705Z
UID:2511-1769013000-1769020200@www.pvncoecta.ca
SUMMARY:Executive Meeting
DESCRIPTION:
URL:https://www.pvncoecta.ca/event/executive-meeting-55/
LOCATION:Unit Office\, 2078 Davis Rd.\, Cavan\, Ontario\, K9J 0G5\, Canada
END:VEVENT
BEGIN:VEVENT
DTSTART;TZID=America/Toronto:20251217T163000
DTEND;TZID=America/Toronto:20251217T183000
DTSTAMP:20260422T181235
CREATED:20250917T141248Z
LAST-MODIFIED:20250917T141248Z
UID:2509-1765989000-1765996200@www.pvncoecta.ca
SUMMARY:Executive Meeting
DESCRIPTION:
URL:https://www.pvncoecta.ca/event/executive-meeting-54/
LOCATION:Unit Office\, 2078 Davis Rd.\, Cavan\, Ontario\, K9J 0G5\, Canada
END:VEVENT
BEGIN:VEVENT
DTSTART;TZID=America/Toronto:20251126T163000
DTEND;TZID=America/Toronto:20251126T183000
DTSTAMP:20260422T181235
CREATED:20250917T140948Z
LAST-MODIFIED:20250917T140948Z
UID:2507-1764174600-1764181800@www.pvncoecta.ca
SUMMARY:Budget General Meeting
DESCRIPTION:
URL:https://www.pvncoecta.ca/event/budget-general-meeting-4/
LOCATION:Baxter Creek Golf and Country Club
END:VEVENT
BEGIN:VEVENT
DTSTART;TZID=America/Toronto:20251119T163000
DTEND;TZID=America/Toronto:20251119T183000
DTSTAMP:20260422T181235
CREATED:20250917T140810Z
LAST-MODIFIED:20250917T140810Z
UID:2503-1763569800-1763577000@www.pvncoecta.ca
SUMMARY:Executive Meeting
DESCRIPTION:
URL:https://www.pvncoecta.ca/event/executive-meeting-53/
LOCATION:Unit Office\, 2078 Davis Rd.\, Cavan\, Ontario\, K9J 0G5\, Canada
END:VEVENT
BEGIN:VEVENT
DTSTART;TZID=America/Toronto:20251112T163000
DTEND;TZID=America/Toronto:20251112T190000
DTSTAMP:20260422T181235
CREATED:20250917T140907Z
LAST-MODIFIED:20250917T140907Z
UID:2505-1762965000-1762974000@www.pvncoecta.ca
SUMMARY:Mass For Deceased Members of the PVNC Community
DESCRIPTION:
URL:https://www.pvncoecta.ca/event/mass-for-deceased-members-of-the-pvnc-community/
LOCATION:Cathedral of St. Peter-In-Chains
END:VEVENT
BEGIN:VEVENT
DTSTART;TZID=America/Toronto:20251022T163000
DTEND;TZID=America/Toronto:20251022T183000
DTSTAMP:20260422T181235
CREATED:20250917T233058Z
LAST-MODIFIED:20250917T233058Z
UID:2527-1761150600-1761157800@www.pvncoecta.ca
SUMMARY:Executive Meeting
DESCRIPTION:
URL:https://www.pvncoecta.ca/event/executive-meeting-61/
END:VEVENT
BEGIN:VEVENT
DTSTART;TZID=America/Toronto:20251001T163000
DTEND;TZID=America/Toronto:20251001T183000
DTSTAMP:20260422T181235
CREATED:20250917T140713Z
LAST-MODIFIED:20250917T140713Z
UID:2501-1759336200-1759343400@www.pvncoecta.ca
SUMMARY:Staff Reps Meeting
DESCRIPTION:
URL:https://www.pvncoecta.ca/event/staff-reps-meeting-4/
LOCATION:Best Western Cobourg
END:VEVENT
BEGIN:VEVENT
DTSTART;TZID=America/Toronto:20250917T163000
DTEND;TZID=America/Toronto:20250917T183000
DTSTAMP:20260422T181235
CREATED:20250917T140535Z
LAST-MODIFIED:20250917T140600Z
UID:2499-1758126600-1758133800@www.pvncoecta.ca
SUMMARY:Executive Meeting
DESCRIPTION:
URL:https://www.pvncoecta.ca/event/executive-meeting-52/
LOCATION:Unit Office\, 2078 Davis Rd.\, Cavan\, Ontario\, K9J 0G5\, Canada
END:VEVENT
BEGIN:VEVENT
DTSTART;TZID=America/Toronto:20240619T163000
DTEND;TZID=America/Toronto:20240619T183000
DTSTAMP:20260422T181235
CREATED:20231016T164040Z
LAST-MODIFIED:20231016T164040Z
UID:2177-1718814600-1718821800@www.pvncoecta.ca
SUMMARY:Executive Meeting
DESCRIPTION:
URL:https://www.pvncoecta.ca/event/executive-meeting-49/
LOCATION:Unit Office\, 2078 Davis Rd.\, Cavan\, Ontario\, K9J 0G5\, Canada
END:VEVENT
BEGIN:VEVENT
DTSTART;TZID=America/Toronto:20240522T163000
DTEND;TZID=America/Toronto:20240522T190000
DTSTAMP:20260422T181235
CREATED:20231016T164337Z
LAST-MODIFIED:20231016T164337Z
UID:2184-1716395400-1716404400@www.pvncoecta.ca
SUMMARY:Unit AGM and Elections
DESCRIPTION:
URL:https://www.pvncoecta.ca/event/unit-agm-and-elections-2/
LOCATION:Baxter Creek Golf and Country Club
END:VEVENT
BEGIN:VEVENT
DTSTART;TZID=America/Toronto:20240515T163000
DTEND;TZID=America/Toronto:20240515T183000
DTSTAMP:20260422T181235
CREATED:20231016T164013Z
LAST-MODIFIED:20231016T164013Z
UID:2175-1715790600-1715797800@www.pvncoecta.ca
SUMMARY:Executive Meeting
DESCRIPTION:
URL:https://www.pvncoecta.ca/event/executive-meeting-48/
LOCATION:Unit Office\, 2078 Davis Rd.\, Cavan\, Ontario\, K9J 0G5\, Canada
END:VEVENT
BEGIN:VEVENT
DTSTART;TZID=America/Toronto:20240417T163000
DTEND;TZID=America/Toronto:20240417T183000
DTSTAMP:20260422T181235
CREATED:20231016T163936Z
LAST-MODIFIED:20231016T163936Z
UID:2173-1713371400-1713378600@www.pvncoecta.ca
SUMMARY:Executive Meeting
DESCRIPTION:
URL:https://www.pvncoecta.ca/event/executive-meeting-47/
LOCATION:Unit Office\, 2078 Davis Rd.\, Cavan\, Ontario\, K9J 0G5\, Canada
END:VEVENT
BEGIN:VEVENT
DTSTART;TZID=America/Toronto:20240323T090000
DTEND;TZID=America/Toronto:20240323T140000
DTSTAMP:20260422T181235
CREATED:20231016T164629Z
LAST-MODIFIED:20231016T164629Z
UID:2186-1711184400-1711202400@www.pvncoecta.ca
SUMMARY:OECTA Retirement Workshop
DESCRIPTION:
URL:https://www.pvncoecta.ca/event/oecta-retirement-workshop/
LOCATION:St. Anne Parish Hall\, 859 Barnardo Ave.\, Peterborough\, Ontario\, K9H5W2\, Canada
END:VEVENT
BEGIN:VEVENT
DTSTART;TZID=America/Toronto:20240320T163000
DTEND;TZID=America/Toronto:20240320T183000
DTSTAMP:20260422T181235
CREATED:20231016T163853Z
LAST-MODIFIED:20231016T163853Z
UID:2171-1710952200-1710959400@www.pvncoecta.ca
SUMMARY:Executive Meeting
DESCRIPTION:
URL:https://www.pvncoecta.ca/event/executive-meeting-46/
LOCATION:Unit Office\, 2078 Davis Rd.\, Cavan\, Ontario\, K9J 0G5\, Canada
END:VEVENT
BEGIN:VEVENT
DTSTART;VALUE=DATE:20240309
DTEND;VALUE=DATE:20240312
DTSTAMP:20260422T181235
CREATED:20231016T164241Z
LAST-MODIFIED:20231016T164241Z
UID:2181-1709942400-1710201599@www.pvncoecta.ca
SUMMARY:OECTA Provincial AGM
DESCRIPTION:
URL:https://www.pvncoecta.ca/event/oecta-provincial-agm-2/
LOCATION:Westin Harbour Castle
END:VEVENT
BEGIN:VEVENT
DTSTART;TZID=America/Toronto:20240306T163000
DTEND;TZID=America/Toronto:20240306T183000
DTSTAMP:20260422T181235
CREATED:20231016T164116Z
LAST-MODIFIED:20231016T164116Z
UID:2179-1709742600-1709749800@www.pvncoecta.ca
SUMMARY:Pre - AGM Meeting
DESCRIPTION:
URL:https://www.pvncoecta.ca/event/pre-agm-meeting-3/
LOCATION:Unit Office\, 2078 Davis Rd.\, Cavan\, Ontario\, K9J 0G5\, Canada
END:VEVENT
BEGIN:VEVENT
DTSTART;TZID=America/Toronto:20240221T163000
DTEND;TZID=America/Toronto:20240221T183000
DTSTAMP:20260422T181235
CREATED:20231016T163816Z
LAST-MODIFIED:20231016T163816Z
UID:2169-1708533000-1708540200@www.pvncoecta.ca
SUMMARY:Executive Meeting
DESCRIPTION:
URL:https://www.pvncoecta.ca/event/executive-meeting-45/
LOCATION:Unit Office\, 2078 Davis Rd.\, Cavan\, Ontario\, K9J 0G5\, Canada
END:VEVENT
BEGIN:VEVENT
DTSTART;TZID=America/Toronto:20240124T163000
DTEND;TZID=America/Toronto:20240124T183000
DTSTAMP:20260422T181235
CREATED:20231016T163746Z
LAST-MODIFIED:20231016T163746Z
UID:2167-1706113800-1706121000@www.pvncoecta.ca
SUMMARY:Executive Meeting
DESCRIPTION:
URL:https://www.pvncoecta.ca/event/executive-meeting-44/
LOCATION:Unit Office\, 2078 Davis Rd.\, Cavan\, Ontario\, K9J 0G5\, Canada
END:VEVENT
BEGIN:VEVENT
DTSTART;VALUE=DATE:20240120
DTEND;VALUE=DATE:20240121
DTSTAMP:20260422T181235
CREATED:20231016T180705Z
LAST-MODIFIED:20231016T180705Z
UID:2201-1705708800-1705795199@www.pvncoecta.ca
SUMMARY:OECTA PVNC Curling Bonspiel
DESCRIPTION:
URL:https://www.pvncoecta.ca/event/oecta-pvnc-curling-bonspiel/
LOCATION:Peterborough Curling Club
END:VEVENT
BEGIN:VEVENT
DTSTART;TZID=America/Toronto:20231220T163000
DTEND;TZID=America/Toronto:20231220T183000
DTSTAMP:20260422T181235
CREATED:20231016T160246Z
LAST-MODIFIED:20231016T160246Z
UID:2158-1703089800-1703097000@www.pvncoecta.ca
SUMMARY:Executive Meeting
DESCRIPTION:
URL:https://www.pvncoecta.ca/event/executive-meeting-43/
LOCATION:Unit Office\, 2078 Davis Rd.\, Cavan\, Ontario\, K9J 0G5\, Canada
END:VEVENT
BEGIN:VEVENT
DTSTART;TZID=America/Toronto:20231209T100000
DTEND;TZID=America/Toronto:20231209T120000
DTSTAMP:20260422T181235
CREATED:20231016T165008Z
LAST-MODIFIED:20231016T165008Z
UID:2192-1702116000-1702123200@www.pvncoecta.ca
SUMMARY:Breakfast with Santa
DESCRIPTION:
URL:https://www.pvncoecta.ca/event/breakfast-with-santa/
LOCATION:Baxter Creek Golf and Country Club
END:VEVENT
BEGIN:VEVENT
DTSTART;TZID=America/Toronto:20231208T153000
DTEND;TZID=America/Toronto:20231208T190000
DTSTAMP:20260422T181235
CREATED:20231016T164914Z
LAST-MODIFIED:20231016T164914Z
UID:2189-1702049400-1702062000@www.pvncoecta.ca
SUMMARY:OECTA Christmas Social - Peterborough
DESCRIPTION:
URL:https://www.pvncoecta.ca/event/oecta-christmas-social-peterborough/
LOCATION:Knights of Columbus Hall PTBO
END:VEVENT
BEGIN:VEVENT
DTSTART;TZID=America/Toronto:20231123T163000
DTEND;TZID=America/Toronto:20231123T183000
DTSTAMP:20260422T181235
CREATED:20231016T160431Z
LAST-MODIFIED:20231016T160431Z
UID:2163-1700757000-1700764200@www.pvncoecta.ca
SUMMARY:Budget General Meeting
DESCRIPTION:
URL:https://www.pvncoecta.ca/event/budget-general-meeting-3/
LOCATION:Baxter Creek Golf and Country Club
END:VEVENT
BEGIN:VEVENT
DTSTART;TZID=America/Toronto:20231122T163000
DTEND;TZID=America/Toronto:20231122T180000
DTSTAMP:20260422T181235
CREATED:20231016T160359Z
LAST-MODIFIED:20231016T160359Z
UID:2160-1700670600-1700676000@www.pvncoecta.ca
SUMMARY:Mass for Deceased Board Employees
DESCRIPTION:
URL:https://www.pvncoecta.ca/event/mass-for-deceased-board-employees/
LOCATION:Cathedral of St. Peter-In-Chains
END:VEVENT
BEGIN:VEVENT
DTSTART;TZID=America/Toronto:20231115T163000
DTEND;TZID=America/Toronto:20231115T183000
DTSTAMP:20260422T181235
CREATED:20231016T160201Z
LAST-MODIFIED:20231016T160201Z
UID:2156-1700065800-1700073000@www.pvncoecta.ca
SUMMARY:Executive Meeting
DESCRIPTION:
URL:https://www.pvncoecta.ca/event/executive-meeting-42/
LOCATION:Unit Office\, 2078 Davis Rd.\, Cavan\, Ontario\, K9J 0G5\, Canada
END:VEVENT
END:VCALENDAR